BEGIN:VCALENDAR
VERSION:2.0
PRODID:-//Immanuel Christian Reformed Church - ECPv6.15.20//NONSGML v1.0//EN
CALSCALE:GREGORIAN
METHOD:PUBLISH
X-WR-CALNAME:Immanuel Christian Reformed Church
X-ORIGINAL-URL:https://icrccornwall.com
X-WR-CALDESC:Events for Immanuel Christian Reformed Church
REFRESH-INTERVAL;VALUE=DURATION:PT1H
X-Robots-Tag:noindex
X-PUBLISHED-TTL:PT1H
BEGIN:VTIMEZONE
TZID:America/Toronto
BEGIN:DAYLIGHT
TZOFFSETFROM:-0500
TZOFFSETTO:-0400
TZNAME:EDT
DTSTART:20170312T070000
END:DAYLIGHT
BEGIN:STANDARD
TZOFFSETFROM:-0400
TZOFFSETTO:-0500
TZNAME:EST
DTSTART:20171105T060000
END:STANDARD
BEGIN:DAYLIGHT
TZOFFSETFROM:-0500
TZOFFSETTO:-0400
TZNAME:EDT
DTSTART:20180311T070000
END:DAYLIGHT
BEGIN:STANDARD
TZOFFSETFROM:-0400
TZOFFSETTO:-0500
TZNAME:EST
DTSTART:20181104T060000
END:STANDARD
BEGIN:DAYLIGHT
TZOFFSETFROM:-0500
TZOFFSETTO:-0400
TZNAME:EDT
DTSTART:20190310T070000
END:DAYLIGHT
BEGIN:STANDARD
TZOFFSETFROM:-0400
TZOFFSETTO:-0500
TZNAME:EST
DTSTART:20191103T060000
END:STANDARD
END:VTIMEZONE
BEGIN:VTIMEZONE
TZID:America/New_York
BEGIN:DAYLIGHT
TZOFFSETFROM:-0500
TZOFFSETTO:-0400
TZNAME:EDT
DTSTART:20170312T070000
END:DAYLIGHT
BEGIN:STANDARD
TZOFFSETFROM:-0400
TZOFFSETTO:-0500
TZNAME:EST
DTSTART:20171105T060000
END:STANDARD
BEGIN:DAYLIGHT
TZOFFSETFROM:-0500
TZOFFSETTO:-0400
TZNAME:EDT
DTSTART:20180311T070000
END:DAYLIGHT
BEGIN:STANDARD
TZOFFSETFROM:-0400
TZOFFSETTO:-0500
TZNAME:EST
DTSTART:20181104T060000
END:STANDARD
BEGIN:DAYLIGHT
TZOFFSETFROM:-0500
TZOFFSETTO:-0400
TZNAME:EDT
DTSTART:20190310T070000
END:DAYLIGHT
BEGIN:STANDARD
TZOFFSETFROM:-0400
TZOFFSETTO:-0500
TZNAME:EST
DTSTART:20191103T060000
END:STANDARD
END:VTIMEZONE
BEGIN:VEVENT
DTSTART;TZID=America/Toronto:20181230T100000
DTEND;TZID=America/Toronto:20181230T120000
DTSTAMP:20260423T122209
CREATED:20180211T181617Z
LAST-MODIFIED:20180211T181617Z
UID:1305-1546164000-1546171200@icrccornwall.com
SUMMARY:Sunday Service
DESCRIPTION:
URL:https://icrccornwall.com/event/sunday-service-47/
LOCATION:Immanuel CRC\, 2264 Pitt Street\, Cornwall\, Ontario\, K6K 1A3\, Canada
END:VEVENT
BEGIN:VEVENT
DTSTART;TZID=America/New_York:20181224T190000
DTEND;TZID=America/New_York:20181224T200000
DTSTAMP:20260423T122209
CREATED:20181215T181106Z
LAST-MODIFIED:20181215T181106Z
UID:1317-1545678000-1545681600@icrccornwall.com
SUMMARY:Christmas Eve Service
DESCRIPTION:A remarkable thing happened that first Christmas\, Jesus was born as Immanuel – which means “God with us.” And at Immanuel Christian Reformed Church we believe God is still with us\, bringing hope\, joy\, love and yes\, peace – in all circumstances. This Christmas season\, start a new tradition and join us to dive deeper into the meaning behind Christmas and learn more about God’s love for you and your family! Come celebrate Christmas with us!
URL:https://icrccornwall.com/event/christmas-eve-service/
LOCATION:Immanuel CRC\, 2264 Pitt Street\, Cornwall\, Ontario\, K6K 1A3\, Canada
END:VEVENT
BEGIN:VEVENT
DTSTART;TZID=America/Toronto:20181223T100000
DTEND;TZID=America/Toronto:20181223T120000
DTSTAMP:20260423T122209
CREATED:20180211T181617Z
LAST-MODIFIED:20180211T181617Z
UID:1304-1545559200-1545566400@icrccornwall.com
SUMMARY:Sunday Service
DESCRIPTION:
URL:https://icrccornwall.com/event/sunday-service-46/
LOCATION:Immanuel CRC\, 2264 Pitt Street\, Cornwall\, Ontario\, K6K 1A3\, Canada
END:VEVENT
BEGIN:VEVENT
DTSTART;TZID=America/Toronto:20181216T100000
DTEND;TZID=America/Toronto:20181216T120000
DTSTAMP:20260423T122209
CREATED:20180211T181616Z
LAST-MODIFIED:20180211T181616Z
UID:1303-1544954400-1544961600@icrccornwall.com
SUMMARY:Sunday Service
DESCRIPTION:
URL:https://icrccornwall.com/event/sunday-service-45/
LOCATION:Immanuel CRC\, 2264 Pitt Street\, Cornwall\, Ontario\, K6K 1A3\, Canada
END:VEVENT
BEGIN:VEVENT
DTSTART;TZID=America/Toronto:20181209T100000
DTEND;TZID=America/Toronto:20181209T120000
DTSTAMP:20260423T122209
CREATED:20180211T181616Z
LAST-MODIFIED:20180211T181616Z
UID:1302-1544349600-1544356800@icrccornwall.com
SUMMARY:Sunday Service
DESCRIPTION:
URL:https://icrccornwall.com/event/sunday-service-44/
LOCATION:Immanuel CRC\, 2264 Pitt Street\, Cornwall\, Ontario\, K6K 1A3\, Canada
END:VEVENT
BEGIN:VEVENT
DTSTART;TZID=America/Toronto:20181202T100000
DTEND;TZID=America/Toronto:20181202T120000
DTSTAMP:20260423T122209
CREATED:20180211T181616Z
LAST-MODIFIED:20180211T181616Z
UID:1301-1543744800-1543752000@icrccornwall.com
SUMMARY:Sunday Service
DESCRIPTION:
URL:https://icrccornwall.com/event/sunday-service-43/
LOCATION:Immanuel CRC\, 2264 Pitt Street\, Cornwall\, Ontario\, K6K 1A3\, Canada
END:VEVENT
BEGIN:VEVENT
DTSTART;TZID=America/Toronto:20181125T100000
DTEND;TZID=America/Toronto:20181125T120000
DTSTAMP:20260423T122209
CREATED:20180211T181615Z
LAST-MODIFIED:20180211T181615Z
UID:1300-1543140000-1543147200@icrccornwall.com
SUMMARY:Sunday Service
DESCRIPTION:
URL:https://icrccornwall.com/event/sunday-service-42/
LOCATION:Immanuel CRC\, 2264 Pitt Street\, Cornwall\, Ontario\, K6K 1A3\, Canada
END:VEVENT
BEGIN:VEVENT
DTSTART;TZID=America/Toronto:20181118T100000
DTEND;TZID=America/Toronto:20181118T120000
DTSTAMP:20260423T122209
CREATED:20180211T181614Z
LAST-MODIFIED:20180211T181614Z
UID:1299-1542535200-1542542400@icrccornwall.com
SUMMARY:Sunday Service
DESCRIPTION:
URL:https://icrccornwall.com/event/sunday-service-41/
LOCATION:Immanuel CRC\, 2264 Pitt Street\, Cornwall\, Ontario\, K6K 1A3\, Canada
END:VEVENT
BEGIN:VEVENT
DTSTART;TZID=America/Toronto:20181111T100000
DTEND;TZID=America/Toronto:20181111T120000
DTSTAMP:20260423T122209
CREATED:20180211T181614Z
LAST-MODIFIED:20180211T181614Z
UID:1298-1541930400-1541937600@icrccornwall.com
SUMMARY:Sunday Service
DESCRIPTION:
URL:https://icrccornwall.com/event/sunday-service-40/
LOCATION:Immanuel CRC\, 2264 Pitt Street\, Cornwall\, Ontario\, K6K 1A3\, Canada
END:VEVENT
BEGIN:VEVENT
DTSTART;TZID=America/Toronto:20181104T100000
DTEND;TZID=America/Toronto:20181104T120000
DTSTAMP:20260423T122209
CREATED:20180211T181614Z
LAST-MODIFIED:20180211T181614Z
UID:1297-1541325600-1541332800@icrccornwall.com
SUMMARY:Sunday Service
DESCRIPTION:
URL:https://icrccornwall.com/event/sunday-service-39/
LOCATION:Immanuel CRC\, 2264 Pitt Street\, Cornwall\, Ontario\, K6K 1A3\, Canada
END:VEVENT
BEGIN:VEVENT
DTSTART;TZID=America/Toronto:20181028T100000
DTEND;TZID=America/Toronto:20181028T120000
DTSTAMP:20260423T122209
CREATED:20180211T181614Z
LAST-MODIFIED:20180211T181614Z
UID:1296-1540720800-1540728000@icrccornwall.com
SUMMARY:Sunday Service
DESCRIPTION:
URL:https://icrccornwall.com/event/sunday-service-38/
LOCATION:Immanuel CRC\, 2264 Pitt Street\, Cornwall\, Ontario\, K6K 1A3\, Canada
END:VEVENT
BEGIN:VEVENT
DTSTART;TZID=America/Toronto:20181021T100000
DTEND;TZID=America/Toronto:20181021T120000
DTSTAMP:20260423T122209
CREATED:20180211T181612Z
LAST-MODIFIED:20180211T181612Z
UID:1295-1540116000-1540123200@icrccornwall.com
SUMMARY:Sunday Service
DESCRIPTION:
URL:https://icrccornwall.com/event/sunday-service-37/
LOCATION:Immanuel CRC\, 2264 Pitt Street\, Cornwall\, Ontario\, K6K 1A3\, Canada
END:VEVENT
BEGIN:VEVENT
DTSTART;TZID=America/Toronto:20181014T100000
DTEND;TZID=America/Toronto:20181014T120000
DTSTAMP:20260423T122209
CREATED:20180211T181612Z
LAST-MODIFIED:20180211T181612Z
UID:1294-1539511200-1539518400@icrccornwall.com
SUMMARY:Sunday Service
DESCRIPTION:
URL:https://icrccornwall.com/event/sunday-service-36/
LOCATION:Immanuel CRC\, 2264 Pitt Street\, Cornwall\, Ontario\, K6K 1A3\, Canada
END:VEVENT
BEGIN:VEVENT
DTSTART;TZID=America/Toronto:20181007T100000
DTEND;TZID=America/Toronto:20181007T120000
DTSTAMP:20260423T122209
CREATED:20180211T181612Z
LAST-MODIFIED:20180211T181612Z
UID:1293-1538906400-1538913600@icrccornwall.com
SUMMARY:Sunday Service
DESCRIPTION:
URL:https://icrccornwall.com/event/sunday-service-35/
LOCATION:Immanuel CRC\, 2264 Pitt Street\, Cornwall\, Ontario\, K6K 1A3\, Canada
END:VEVENT
BEGIN:VEVENT
DTSTART;TZID=America/Toronto:20180930T100000
DTEND;TZID=America/Toronto:20180930T120000
DTSTAMP:20260423T122209
CREATED:20180211T181612Z
LAST-MODIFIED:20180211T181612Z
UID:1292-1538301600-1538308800@icrccornwall.com
SUMMARY:Sunday Service
DESCRIPTION:
URL:https://icrccornwall.com/event/sunday-service-34/
LOCATION:Immanuel CRC\, 2264 Pitt Street\, Cornwall\, Ontario\, K6K 1A3\, Canada
END:VEVENT
BEGIN:VEVENT
DTSTART;TZID=America/Toronto:20180923T100000
DTEND;TZID=America/Toronto:20180923T120000
DTSTAMP:20260423T122209
CREATED:20180211T181612Z
LAST-MODIFIED:20180211T181612Z
UID:1291-1537696800-1537704000@icrccornwall.com
SUMMARY:Sunday Service
DESCRIPTION:
URL:https://icrccornwall.com/event/sunday-service-33/
LOCATION:Immanuel CRC\, 2264 Pitt Street\, Cornwall\, Ontario\, K6K 1A3\, Canada
END:VEVENT
BEGIN:VEVENT
DTSTART;TZID=America/Toronto:20180916T100000
DTEND;TZID=America/Toronto:20180916T120000
DTSTAMP:20260423T122209
CREATED:20180211T181610Z
LAST-MODIFIED:20180211T181610Z
UID:1290-1537092000-1537099200@icrccornwall.com
SUMMARY:Sunday Service
DESCRIPTION:
URL:https://icrccornwall.com/event/sunday-service-32/
LOCATION:Immanuel CRC\, 2264 Pitt Street\, Cornwall\, Ontario\, K6K 1A3\, Canada
END:VEVENT
BEGIN:VEVENT
DTSTART;TZID=America/Toronto:20180909T100000
DTEND;TZID=America/Toronto:20180909T120000
DTSTAMP:20260423T122209
CREATED:20180211T181610Z
LAST-MODIFIED:20180211T181610Z
UID:1289-1536487200-1536494400@icrccornwall.com
SUMMARY:Sunday Service
DESCRIPTION:
URL:https://icrccornwall.com/event/sunday-service-31/
LOCATION:Immanuel CRC\, 2264 Pitt Street\, Cornwall\, Ontario\, K6K 1A3\, Canada
END:VEVENT
BEGIN:VEVENT
DTSTART;TZID=America/Toronto:20180902T100000
DTEND;TZID=America/Toronto:20180902T120000
DTSTAMP:20260423T122209
CREATED:20180211T181610Z
LAST-MODIFIED:20180211T181610Z
UID:1288-1535882400-1535889600@icrccornwall.com
SUMMARY:Sunday Service
DESCRIPTION:
URL:https://icrccornwall.com/event/sunday-service-30/
LOCATION:Immanuel CRC\, 2264 Pitt Street\, Cornwall\, Ontario\, K6K 1A3\, Canada
END:VEVENT
BEGIN:VEVENT
DTSTART;TZID=America/Toronto:20180826T100000
DTEND;TZID=America/Toronto:20180826T120000
DTSTAMP:20260423T122209
CREATED:20180211T181610Z
LAST-MODIFIED:20180211T181610Z
UID:1287-1535277600-1535284800@icrccornwall.com
SUMMARY:Sunday Service
DESCRIPTION:
URL:https://icrccornwall.com/event/sunday-service-29/
LOCATION:Immanuel CRC\, 2264 Pitt Street\, Cornwall\, Ontario\, K6K 1A3\, Canada
END:VEVENT
BEGIN:VEVENT
DTSTART;TZID=America/Toronto:20180819T100000
DTEND;TZID=America/Toronto:20180819T120000
DTSTAMP:20260423T122209
CREATED:20180211T181609Z
LAST-MODIFIED:20180211T181609Z
UID:1286-1534672800-1534680000@icrccornwall.com
SUMMARY:Sunday Service
DESCRIPTION:
URL:https://icrccornwall.com/event/sunday-service-28/
LOCATION:Immanuel CRC\, 2264 Pitt Street\, Cornwall\, Ontario\, K6K 1A3\, Canada
END:VEVENT
BEGIN:VEVENT
DTSTART;TZID=America/Toronto:20180812T100000
DTEND;TZID=America/Toronto:20180812T120000
DTSTAMP:20260423T122209
CREATED:20180211T181608Z
LAST-MODIFIED:20180211T181608Z
UID:1285-1534068000-1534075200@icrccornwall.com
SUMMARY:Sunday Service
DESCRIPTION:
URL:https://icrccornwall.com/event/sunday-service-27/
LOCATION:Immanuel CRC\, 2264 Pitt Street\, Cornwall\, Ontario\, K6K 1A3\, Canada
END:VEVENT
BEGIN:VEVENT
DTSTART;TZID=America/Toronto:20180805T100000
DTEND;TZID=America/Toronto:20180805T120000
DTSTAMP:20260423T122209
CREATED:20180211T181608Z
LAST-MODIFIED:20180211T181608Z
UID:1284-1533463200-1533470400@icrccornwall.com
SUMMARY:Sunday Service
DESCRIPTION:
URL:https://icrccornwall.com/event/sunday-service-26/
LOCATION:Immanuel CRC\, 2264 Pitt Street\, Cornwall\, Ontario\, K6K 1A3\, Canada
END:VEVENT
BEGIN:VEVENT
DTSTART;TZID=America/Toronto:20180729T100000
DTEND;TZID=America/Toronto:20180729T120000
DTSTAMP:20260423T122209
CREATED:20180211T181608Z
LAST-MODIFIED:20180211T181608Z
UID:1283-1532858400-1532865600@icrccornwall.com
SUMMARY:Sunday Service
DESCRIPTION:
URL:https://icrccornwall.com/event/sunday-service-25/
LOCATION:Immanuel CRC\, 2264 Pitt Street\, Cornwall\, Ontario\, K6K 1A3\, Canada
END:VEVENT
BEGIN:VEVENT
DTSTART;TZID=America/Toronto:20180722T100000
DTEND;TZID=America/Toronto:20180722T120000
DTSTAMP:20260423T122209
CREATED:20180211T181608Z
LAST-MODIFIED:20180211T181608Z
UID:1282-1532253600-1532260800@icrccornwall.com
SUMMARY:Sunday Service
DESCRIPTION:
URL:https://icrccornwall.com/event/sunday-service-24/
LOCATION:Immanuel CRC\, 2264 Pitt Street\, Cornwall\, Ontario\, K6K 1A3\, Canada
END:VEVENT
BEGIN:VEVENT
DTSTART;TZID=America/Toronto:20180715T100000
DTEND;TZID=America/Toronto:20180715T120000
DTSTAMP:20260423T122209
CREATED:20180211T181607Z
LAST-MODIFIED:20180211T181607Z
UID:1281-1531648800-1531656000@icrccornwall.com
SUMMARY:Sunday Service
DESCRIPTION:
URL:https://icrccornwall.com/event/sunday-service-23/
LOCATION:Immanuel CRC\, 2264 Pitt Street\, Cornwall\, Ontario\, K6K 1A3\, Canada
END:VEVENT
BEGIN:VEVENT
DTSTART;TZID=America/Toronto:20180708T100000
DTEND;TZID=America/Toronto:20180708T120000
DTSTAMP:20260423T122209
CREATED:20180211T181606Z
LAST-MODIFIED:20180211T181606Z
UID:1280-1531044000-1531051200@icrccornwall.com
SUMMARY:Sunday Service
DESCRIPTION:
URL:https://icrccornwall.com/event/sunday-service-22/
LOCATION:Immanuel CRC\, 2264 Pitt Street\, Cornwall\, Ontario\, K6K 1A3\, Canada
END:VEVENT
BEGIN:VEVENT
DTSTART;TZID=America/Toronto:20180701T100000
DTEND;TZID=America/Toronto:20180701T120000
DTSTAMP:20260423T122209
CREATED:20180211T181606Z
LAST-MODIFIED:20180211T181606Z
UID:1279-1530439200-1530446400@icrccornwall.com
SUMMARY:Sunday Service
DESCRIPTION:
URL:https://icrccornwall.com/event/sunday-service-21/
LOCATION:Immanuel CRC\, 2264 Pitt Street\, Cornwall\, Ontario\, K6K 1A3\, Canada
END:VEVENT
BEGIN:VEVENT
DTSTART;TZID=America/Toronto:20180624T100000
DTEND;TZID=America/Toronto:20180624T120000
DTSTAMP:20260423T122209
CREATED:20180211T181606Z
LAST-MODIFIED:20180211T181606Z
UID:1278-1529834400-1529841600@icrccornwall.com
SUMMARY:Sunday Service
DESCRIPTION:
URL:https://icrccornwall.com/event/sunday-service-20/
LOCATION:Immanuel CRC\, 2264 Pitt Street\, Cornwall\, Ontario\, K6K 1A3\, Canada
END:VEVENT
BEGIN:VEVENT
DTSTART;TZID=America/Toronto:20180617T100000
DTEND;TZID=America/Toronto:20180617T120000
DTSTAMP:20260423T122209
CREATED:20180211T181606Z
LAST-MODIFIED:20180211T181606Z
UID:1277-1529229600-1529236800@icrccornwall.com
SUMMARY:Sunday Service
DESCRIPTION:
URL:https://icrccornwall.com/event/sunday-service-19/
LOCATION:Immanuel CRC\, 2264 Pitt Street\, Cornwall\, Ontario\, K6K 1A3\, Canada
END:VEVENT
END:VCALENDAR