BEGIN:VCALENDAR
VERSION:2.0
PRODID:-//Immanuel Christian Reformed Church - ECPv6.15.20//NONSGML v1.0//EN
CALSCALE:GREGORIAN
METHOD:PUBLISH
X-ORIGINAL-URL:https://icrccornwall.com
X-WR-CALDESC:Events for Immanuel Christian Reformed Church
REFRESH-INTERVAL;VALUE=DURATION:PT1H
X-Robots-Tag:noindex
X-PUBLISHED-TTL:PT1H
BEGIN:VTIMEZONE
TZID:America/Toronto
BEGIN:DAYLIGHT
TZOFFSETFROM:-0500
TZOFFSETTO:-0400
TZNAME:EDT
DTSTART:20170312T070000
END:DAYLIGHT
BEGIN:STANDARD
TZOFFSETFROM:-0400
TZOFFSETTO:-0500
TZNAME:EST
DTSTART:20171105T060000
END:STANDARD
BEGIN:DAYLIGHT
TZOFFSETFROM:-0500
TZOFFSETTO:-0400
TZNAME:EDT
DTSTART:20180311T070000
END:DAYLIGHT
BEGIN:STANDARD
TZOFFSETFROM:-0400
TZOFFSETTO:-0500
TZNAME:EST
DTSTART:20181104T060000
END:STANDARD
BEGIN:DAYLIGHT
TZOFFSETFROM:-0500
TZOFFSETTO:-0400
TZNAME:EDT
DTSTART:20190310T070000
END:DAYLIGHT
BEGIN:STANDARD
TZOFFSETFROM:-0400
TZOFFSETTO:-0500
TZNAME:EST
DTSTART:20191103T060000
END:STANDARD
END:VTIMEZONE
BEGIN:VTIMEZONE
TZID:America/New_York
BEGIN:DAYLIGHT
TZOFFSETFROM:-0500
TZOFFSETTO:-0400
TZNAME:EDT
DTSTART:20160313T070000
END:DAYLIGHT
BEGIN:STANDARD
TZOFFSETFROM:-0400
TZOFFSETTO:-0500
TZNAME:EST
DTSTART:20161106T060000
END:STANDARD
BEGIN:DAYLIGHT
TZOFFSETFROM:-0500
TZOFFSETTO:-0400
TZNAME:EDT
DTSTART:20170312T070000
END:DAYLIGHT
BEGIN:STANDARD
TZOFFSETFROM:-0400
TZOFFSETTO:-0500
TZNAME:EST
DTSTART:20171105T060000
END:STANDARD
BEGIN:DAYLIGHT
TZOFFSETFROM:-0500
TZOFFSETTO:-0400
TZNAME:EDT
DTSTART:20180311T070000
END:DAYLIGHT
BEGIN:STANDARD
TZOFFSETFROM:-0400
TZOFFSETTO:-0500
TZNAME:EST
DTSTART:20181104T060000
END:STANDARD
BEGIN:DAYLIGHT
TZOFFSETFROM:-0500
TZOFFSETTO:-0400
TZNAME:EDT
DTSTART:20190310T070000
END:DAYLIGHT
BEGIN:STANDARD
TZOFFSETFROM:-0400
TZOFFSETTO:-0500
TZNAME:EST
DTSTART:20191103T060000
END:STANDARD
END:VTIMEZONE
BEGIN:VEVENT
DTSTART;TZID=America/Toronto:20180819T100000
DTEND;TZID=America/Toronto:20180819T120000
DTSTAMP:20260423T143515
CREATED:20180211T181609Z
LAST-MODIFIED:20180211T181609Z
UID:1286-1534672800-1534680000@icrccornwall.com
SUMMARY:Sunday Service
DESCRIPTION:
URL:https://icrccornwall.com/event/sunday-service-28/
LOCATION:Immanuel CRC\, 2264 Pitt Street\, Cornwall\, Ontario\, K6K 1A3\, Canada
END:VEVENT
BEGIN:VEVENT
DTSTART;TZID=America/Toronto:20180812T100000
DTEND;TZID=America/Toronto:20180812T120000
DTSTAMP:20260423T143515
CREATED:20180211T181608Z
LAST-MODIFIED:20180211T181608Z
UID:1285-1534068000-1534075200@icrccornwall.com
SUMMARY:Sunday Service
DESCRIPTION:
URL:https://icrccornwall.com/event/sunday-service-27/
LOCATION:Immanuel CRC\, 2264 Pitt Street\, Cornwall\, Ontario\, K6K 1A3\, Canada
END:VEVENT
BEGIN:VEVENT
DTSTART;TZID=America/Toronto:20180805T100000
DTEND;TZID=America/Toronto:20180805T120000
DTSTAMP:20260423T143515
CREATED:20180211T181608Z
LAST-MODIFIED:20180211T181608Z
UID:1284-1533463200-1533470400@icrccornwall.com
SUMMARY:Sunday Service
DESCRIPTION:
URL:https://icrccornwall.com/event/sunday-service-26/
LOCATION:Immanuel CRC\, 2264 Pitt Street\, Cornwall\, Ontario\, K6K 1A3\, Canada
END:VEVENT
BEGIN:VEVENT
DTSTART;TZID=America/Toronto:20180729T100000
DTEND;TZID=America/Toronto:20180729T120000
DTSTAMP:20260423T143515
CREATED:20180211T181608Z
LAST-MODIFIED:20180211T181608Z
UID:1283-1532858400-1532865600@icrccornwall.com
SUMMARY:Sunday Service
DESCRIPTION:
URL:https://icrccornwall.com/event/sunday-service-25/
LOCATION:Immanuel CRC\, 2264 Pitt Street\, Cornwall\, Ontario\, K6K 1A3\, Canada
END:VEVENT
BEGIN:VEVENT
DTSTART;TZID=America/Toronto:20180722T100000
DTEND;TZID=America/Toronto:20180722T120000
DTSTAMP:20260423T143515
CREATED:20180211T181608Z
LAST-MODIFIED:20180211T181608Z
UID:1282-1532253600-1532260800@icrccornwall.com
SUMMARY:Sunday Service
DESCRIPTION:
URL:https://icrccornwall.com/event/sunday-service-24/
LOCATION:Immanuel CRC\, 2264 Pitt Street\, Cornwall\, Ontario\, K6K 1A3\, Canada
END:VEVENT
BEGIN:VEVENT
DTSTART;TZID=America/Toronto:20180715T100000
DTEND;TZID=America/Toronto:20180715T120000
DTSTAMP:20260423T143515
CREATED:20180211T181607Z
LAST-MODIFIED:20180211T181607Z
UID:1281-1531648800-1531656000@icrccornwall.com
SUMMARY:Sunday Service
DESCRIPTION:
URL:https://icrccornwall.com/event/sunday-service-23/
LOCATION:Immanuel CRC\, 2264 Pitt Street\, Cornwall\, Ontario\, K6K 1A3\, Canada
END:VEVENT
BEGIN:VEVENT
DTSTART;TZID=America/Toronto:20180708T100000
DTEND;TZID=America/Toronto:20180708T120000
DTSTAMP:20260423T143515
CREATED:20180211T181606Z
LAST-MODIFIED:20180211T181606Z
UID:1280-1531044000-1531051200@icrccornwall.com
SUMMARY:Sunday Service
DESCRIPTION:
URL:https://icrccornwall.com/event/sunday-service-22/
LOCATION:Immanuel CRC\, 2264 Pitt Street\, Cornwall\, Ontario\, K6K 1A3\, Canada
END:VEVENT
BEGIN:VEVENT
DTSTART;TZID=America/Toronto:20180701T100000
DTEND;TZID=America/Toronto:20180701T120000
DTSTAMP:20260423T143515
CREATED:20180211T181606Z
LAST-MODIFIED:20180211T181606Z
UID:1279-1530439200-1530446400@icrccornwall.com
SUMMARY:Sunday Service
DESCRIPTION:
URL:https://icrccornwall.com/event/sunday-service-21/
LOCATION:Immanuel CRC\, 2264 Pitt Street\, Cornwall\, Ontario\, K6K 1A3\, Canada
END:VEVENT
BEGIN:VEVENT
DTSTART;TZID=America/Toronto:20180624T100000
DTEND;TZID=America/Toronto:20180624T120000
DTSTAMP:20260423T143515
CREATED:20180211T181606Z
LAST-MODIFIED:20180211T181606Z
UID:1278-1529834400-1529841600@icrccornwall.com
SUMMARY:Sunday Service
DESCRIPTION:
URL:https://icrccornwall.com/event/sunday-service-20/
LOCATION:Immanuel CRC\, 2264 Pitt Street\, Cornwall\, Ontario\, K6K 1A3\, Canada
END:VEVENT
BEGIN:VEVENT
DTSTART;TZID=America/Toronto:20180617T100000
DTEND;TZID=America/Toronto:20180617T120000
DTSTAMP:20260423T143515
CREATED:20180211T181606Z
LAST-MODIFIED:20180211T181606Z
UID:1277-1529229600-1529236800@icrccornwall.com
SUMMARY:Sunday Service
DESCRIPTION:
URL:https://icrccornwall.com/event/sunday-service-19/
LOCATION:Immanuel CRC\, 2264 Pitt Street\, Cornwall\, Ontario\, K6K 1A3\, Canada
END:VEVENT
BEGIN:VEVENT
DTSTART;TZID=America/Toronto:20180610T100000
DTEND;TZID=America/Toronto:20180610T120000
DTSTAMP:20260423T143515
CREATED:20180211T181605Z
LAST-MODIFIED:20180211T181605Z
UID:1276-1528624800-1528632000@icrccornwall.com
SUMMARY:Sunday Service
DESCRIPTION:
URL:https://icrccornwall.com/event/sunday-service-18/
LOCATION:Immanuel CRC\, 2264 Pitt Street\, Cornwall\, Ontario\, K6K 1A3\, Canada
END:VEVENT
BEGIN:VEVENT
DTSTART;TZID=America/Toronto:20180603T100000
DTEND;TZID=America/Toronto:20180603T120000
DTSTAMP:20260423T143515
CREATED:20180211T181604Z
LAST-MODIFIED:20180211T181604Z
UID:1275-1528020000-1528027200@icrccornwall.com
SUMMARY:Sunday Service
DESCRIPTION:
URL:https://icrccornwall.com/event/sunday-service-17/
LOCATION:Immanuel CRC\, 2264 Pitt Street\, Cornwall\, Ontario\, K6K 1A3\, Canada
END:VEVENT
BEGIN:VEVENT
DTSTART;TZID=America/Toronto:20180527T100000
DTEND;TZID=America/Toronto:20180527T120000
DTSTAMP:20260423T143515
CREATED:20180211T181604Z
LAST-MODIFIED:20180211T181604Z
UID:1274-1527415200-1527422400@icrccornwall.com
SUMMARY:Sunday Service
DESCRIPTION:
URL:https://icrccornwall.com/event/sunday-service-16/
LOCATION:Immanuel CRC\, 2264 Pitt Street\, Cornwall\, Ontario\, K6K 1A3\, Canada
END:VEVENT
BEGIN:VEVENT
DTSTART;TZID=America/Toronto:20180520T100000
DTEND;TZID=America/Toronto:20180520T120000
DTSTAMP:20260423T143515
CREATED:20180211T181604Z
LAST-MODIFIED:20180211T181604Z
UID:1273-1526810400-1526817600@icrccornwall.com
SUMMARY:Sunday Service
DESCRIPTION:
URL:https://icrccornwall.com/event/sunday-service-15/
LOCATION:Immanuel CRC\, 2264 Pitt Street\, Cornwall\, Ontario\, K6K 1A3\, Canada
END:VEVENT
BEGIN:VEVENT
DTSTART;TZID=America/Toronto:20180513T100000
DTEND;TZID=America/Toronto:20180513T120000
DTSTAMP:20260423T143515
CREATED:20180211T181603Z
LAST-MODIFIED:20180211T181603Z
UID:1272-1526205600-1526212800@icrccornwall.com
SUMMARY:Sunday Service
DESCRIPTION:
URL:https://icrccornwall.com/event/sunday-service-14/
LOCATION:Immanuel CRC\, 2264 Pitt Street\, Cornwall\, Ontario\, K6K 1A3\, Canada
END:VEVENT
BEGIN:VEVENT
DTSTART;TZID=America/Toronto:20180506T100000
DTEND;TZID=America/Toronto:20180506T120000
DTSTAMP:20260423T143515
CREATED:20180211T181603Z
LAST-MODIFIED:20180211T181603Z
UID:1271-1525600800-1525608000@icrccornwall.com
SUMMARY:Sunday Service
DESCRIPTION:
URL:https://icrccornwall.com/event/sunday-service-13/
LOCATION:Immanuel CRC\, 2264 Pitt Street\, Cornwall\, Ontario\, K6K 1A3\, Canada
END:VEVENT
BEGIN:VEVENT
DTSTART;TZID=America/Toronto:20180429T100000
DTEND;TZID=America/Toronto:20180429T120000
DTSTAMP:20260423T143515
CREATED:20180211T181602Z
LAST-MODIFIED:20180211T181602Z
UID:1270-1524996000-1525003200@icrccornwall.com
SUMMARY:Sunday Service
DESCRIPTION:
URL:https://icrccornwall.com/event/sunday-service-12/
LOCATION:Immanuel CRC\, 2264 Pitt Street\, Cornwall\, Ontario\, K6K 1A3\, Canada
END:VEVENT
BEGIN:VEVENT
DTSTART;TZID=America/Toronto:20180422T100000
DTEND;TZID=America/Toronto:20180422T120000
DTSTAMP:20260423T143515
CREATED:20180211T181601Z
LAST-MODIFIED:20180211T181601Z
UID:1269-1524391200-1524398400@icrccornwall.com
SUMMARY:Sunday Service
DESCRIPTION:
URL:https://icrccornwall.com/event/sunday-service-11/
LOCATION:Immanuel CRC\, 2264 Pitt Street\, Cornwall\, Ontario\, K6K 1A3\, Canada
END:VEVENT
BEGIN:VEVENT
DTSTART;TZID=America/Toronto:20180415T100000
DTEND;TZID=America/Toronto:20180415T120000
DTSTAMP:20260423T143515
CREATED:20180211T181601Z
LAST-MODIFIED:20180211T181601Z
UID:1268-1523786400-1523793600@icrccornwall.com
SUMMARY:Sunday Service
DESCRIPTION:
URL:https://icrccornwall.com/event/sunday-service-10/
LOCATION:Immanuel CRC\, 2264 Pitt Street\, Cornwall\, Ontario\, K6K 1A3\, Canada
END:VEVENT
BEGIN:VEVENT
DTSTART;TZID=America/Toronto:20180408T100000
DTEND;TZID=America/Toronto:20180408T120000
DTSTAMP:20260423T143515
CREATED:20180211T181601Z
LAST-MODIFIED:20180211T181601Z
UID:1267-1523181600-1523188800@icrccornwall.com
SUMMARY:Sunday Service
DESCRIPTION:
URL:https://icrccornwall.com/event/sunday-service-9/
LOCATION:Immanuel CRC\, 2264 Pitt Street\, Cornwall\, Ontario\, K6K 1A3\, Canada
END:VEVENT
BEGIN:VEVENT
DTSTART;TZID=America/Toronto:20180401T100000
DTEND;TZID=America/Toronto:20180401T120000
DTSTAMP:20260423T143515
CREATED:20180211T181601Z
LAST-MODIFIED:20180211T181601Z
UID:1266-1522576800-1522584000@icrccornwall.com
SUMMARY:Sunday Service
DESCRIPTION:
URL:https://icrccornwall.com/event/sunday-service-8/
LOCATION:Immanuel CRC\, 2264 Pitt Street\, Cornwall\, Ontario\, K6K 1A3\, Canada
END:VEVENT
BEGIN:VEVENT
DTSTART;TZID=America/Toronto:20180325T100000
DTEND;TZID=America/Toronto:20180325T120000
DTSTAMP:20260423T143515
CREATED:20180211T181558Z
LAST-MODIFIED:20180211T181558Z
UID:1265-1521972000-1521979200@icrccornwall.com
SUMMARY:Sunday Service
DESCRIPTION:
URL:https://icrccornwall.com/event/sunday-service-7/
LOCATION:Immanuel CRC\, 2264 Pitt Street\, Cornwall\, Ontario\, K6K 1A3\, Canada
END:VEVENT
BEGIN:VEVENT
DTSTART;TZID=America/Toronto:20180318T100000
DTEND;TZID=America/Toronto:20180318T120000
DTSTAMP:20260423T143515
CREATED:20180211T181558Z
LAST-MODIFIED:20180211T181558Z
UID:1264-1521367200-1521374400@icrccornwall.com
SUMMARY:Sunday Service
DESCRIPTION:
URL:https://icrccornwall.com/event/sunday-service-6/
LOCATION:Immanuel CRC\, 2264 Pitt Street\, Cornwall\, Ontario\, K6K 1A3\, Canada
END:VEVENT
BEGIN:VEVENT
DTSTART;TZID=America/Toronto:20180311T100000
DTEND;TZID=America/Toronto:20180311T120000
DTSTAMP:20260423T143515
CREATED:20180211T181558Z
LAST-MODIFIED:20180211T181558Z
UID:1263-1520762400-1520769600@icrccornwall.com
SUMMARY:Sunday Service
DESCRIPTION:
URL:https://icrccornwall.com/event/sunday-service-5/
LOCATION:Immanuel CRC\, 2264 Pitt Street\, Cornwall\, Ontario\, K6K 1A3\, Canada
END:VEVENT
BEGIN:VEVENT
DTSTART;TZID=America/Toronto:20180304T100000
DTEND;TZID=America/Toronto:20180304T120000
DTSTAMP:20260423T143515
CREATED:20180211T181558Z
LAST-MODIFIED:20180211T181558Z
UID:1262-1520157600-1520164800@icrccornwall.com
SUMMARY:Sunday Service
DESCRIPTION:
URL:https://icrccornwall.com/event/sunday-service-4/
LOCATION:Immanuel CRC\, 2264 Pitt Street\, Cornwall\, Ontario\, K6K 1A3\, Canada
END:VEVENT
BEGIN:VEVENT
DTSTART;TZID=America/Toronto:20180225T100000
DTEND;TZID=America/Toronto:20180225T120000
DTSTAMP:20260423T143515
CREATED:20180211T181558Z
LAST-MODIFIED:20180211T181558Z
UID:1261-1519552800-1519560000@icrccornwall.com
SUMMARY:Sunday Service
DESCRIPTION:
URL:https://icrccornwall.com/event/sunday-service-3/
LOCATION:Immanuel CRC\, 2264 Pitt Street\, Cornwall\, Ontario\, K6K 1A3\, Canada
END:VEVENT
BEGIN:VEVENT
DTSTART;TZID=America/New_York:20180218T100000
DTEND;TZID=America/New_York:20180218T120000
DTSTAMP:20260423T143515
CREATED:20180211T175922Z
LAST-MODIFIED:20180211T175922Z
UID:1256-1518948000-1518955200@icrccornwall.com
SUMMARY:Sunday Service
DESCRIPTION:
URL:https://icrccornwall.com/event/sunday-service-2/
LOCATION:Immanuel CRC\, 2264 Pitt Street\, Cornwall\, Ontario\, K6K 1A3\, Canada
END:VEVENT
BEGIN:VEVENT
DTSTART;TZID=America/New_York:20171015T100000
DTEND;TZID=America/New_York:20171015T120000
DTSTAMP:20260423T143515
CREATED:20171008T174504Z
LAST-MODIFIED:20171020T001429Z
UID:1109-1508061600-1508068800@icrccornwall.com
SUMMARY:Sunday Service
DESCRIPTION:
URL:https://icrccornwall.com/event/sunday-service/
LOCATION:Immanuel CRC\, 2264 Pitt Street\, Cornwall\, Ontario\, K6K 1A3\, Canada
END:VEVENT
END:VCALENDAR